BEGIN:VCALENDAR
VERSION:2.0
PRODID:-//lightbulb/agenda//NONSGML v1.0//EN
CALSCALE:GREGORIAN
BEGIN:VEVENT
UID:9261dd1b310a1949370f3ec6e8aa78ea
DTSTAMP:20211007T093718
DTSTART:20210615T080000
DTEND:20211207T100000
SUMMARY:Workshop : Technique énergisante
END:VEVENT
END:VCALENDAR