BEGIN:VCALENDAR
VERSION:2.0
PRODID:-//lightbulb/agenda//NONSGML v1.0//EN
CALSCALE:GREGORIAN
BEGIN:VEVENT
UID:fe09f091f5c661afdf1f5069a4136735
DTSTAMP:20211007T093632
DTSTART:20210518T080000
DTEND:20211123T100000
SUMMARY:Workshop : Détente profonde
END:VEVENT
END:VCALENDAR