BEGIN:VCALENDAR
VERSION:2.0
PRODID:-//lightbulb/agenda//NONSGML v1.0//EN
CALSCALE:GREGORIAN
BEGIN:VEVENT
UID:caa0bd048dd3104968cbe5082662af42
DTSTAMP:20211007T093747
DTSTART:20210908T110000
DTEND:20211208T160000
SUMMARY:Séance d’information avec Info-Zenter Demenz au Escher BiBSS
END:VEVENT
END:VCALENDAR