BEGIN:VCALENDAR
VERSION:2.0
PRODID:-//lightbulb/agenda//NONSGML v1.0//EN
CALSCALE:GREGORIAN
BEGIN:VEVENT
UID:bc45ee46080d94757d84677cd9fb7395
DTSTAMP:20200123T083129
DTSTART:20200115T140000
DTEND:20200701T160000
SUMMARY:PERMANENCE du Mosaïque Club Senior @ Escher BiBSS
END:VEVENT
END:VCALENDAR