BEGIN:VCALENDAR
VERSION:2.0
PRODID:-//lightbulb/agenda//NONSGML v1.0//EN
CALSCALE:GREGORIAN
BEGIN:VEVENT
UID:2c3279b0b059b2665593834a264d7de6
DTSTAMP:20210423T091052
DTSTART:20191210T200000
SUMMARY:Moonspell + Rotting Christ
END:VEVENT
END:VCALENDAR