BEGIN:VCALENDAR
VERSION:2.0
PRODID:-//lightbulb/agenda//NONSGML v1.0//EN
CALSCALE:GREGORIAN
BEGIN:VEVENT
UID:5934c1ec0cd31e12bd9084d106bc2e32
DTSTAMP:20200123T082748
DTSTART:20190725T150000
DTEND:20200301T120000
SUMMARY:Meisterin Hüpf und der scheue König
END:VEVENT
END:VCALENDAR