BEGIN:VCALENDAR
VERSION:2.0
PRODID:-//lightbulb/agenda//NONSGML v1.0//EN
CALSCALE:GREGORIAN
BEGIN:VEVENT
UID:c617ea9609ec341360765f6d29b5814e
DTSTAMP:20200123T083225
DTSTART:20200117T180000
DTEND:20201120T010000
SUMMARY:Gebärdensprache Kafé
END:VEVENT
END:VCALENDAR