BEGIN:VCALENDAR
VERSION:2.0
PRODID:-//lightbulb/agenda//NONSGML v1.0//EN
CALSCALE:GREGORIAN
BEGIN:VEVENT
UID:bc6fe82635b1429d3e886eec0fc34f49
DTSTAMP:20210420T094551
DTSTART:20191017T183000
SUMMARY:Extranostro
END:VEVENT
END:VCALENDAR