BEGIN:VCALENDAR
VERSION:2.0
PRODID:-//lightbulb/agenda//NONSGML v1.0//EN
CALSCALE:GREGORIAN
BEGIN:VEVENT
UID:1e04b969bf040acd252e1faafb51f829
DTSTAMP:20211007T093807
DTSTART:20210714T080000
DTEND:20211215T110000
SUMMARY:Cours débutants sur tablette et smartphone
END:VEVENT
END:VCALENDAR