BEGIN:VCALENDAR
VERSION:2.0
PRODID:-//lightbulb/agenda//NONSGML v1.0//EN
CALSCALE:GREGORIAN
BEGIN:VEVENT
UID:a4bc254def844da9f771cd03eb0cb6d4
DTSTAMP:20200123T083001
DTSTART:20200116T140000
DTEND:20200409T160000
SUMMARY:Computer a Kaffi / Café informatique
END:VEVENT
END:VCALENDAR