BEGIN:VCALENDAR
VERSION:2.0
PRODID:-//lightbulb/agenda//NONSGML v1.0//EN
CALSCALE:GREGORIAN
BEGIN:VEVENT
UID:c4c32f6c24ee9c91d8debbd72cce2a22
DTSTAMP:20200123T082905
DTSTART:20200115T140000
DTEND:20200401T170000
SUMMARY:APRÈS-MIDI DE JEUX / SPIELNACHMITTAG
END:VEVENT
END:VCALENDAR