BEGIN:VCALENDAR
VERSION:2.0
PRODID:-//lightbulb/agenda//NONSGML v1.0//EN
CALSCALE:GREGORIAN
BEGIN:VEVENT
UID:43fc91dba3d864d2270837ab20f9e4c9
DTSTAMP:20211007T093705
DTSTART:20210930T123000
DTEND:20211129T150000
SUMMARY:SING! – nouveau ensemble vocal (10-14 ans)
END:VEVENT
END:VCALENDAR